BEGIN:VCALENDAR
VERSION:2.0
PRODID:-//ChamberMaster//Event Calendar 2.0//EN
METHOD:PUBLISH
X-PUBLISHED-TTL:P1H
REFRESH-INTERVAL:P1H
CALSCALE:GREGORIAN
BEGIN:VTIMEZONE
TZID:America/Los_Angeles
BEGIN:DAYLIGHT
RRULE:FREQ=YEARLY;BYMONTH=3;BYDAY=2SU
DTSTART:20070101T000000
TZOFFSETFROM:-0800
TZOFFSETTO:-0700
TZNAME:Pacific Daylight Time
END:DAYLIGHT
BEGIN:STANDARD
RRULE:FREQ=YEARLY;BYMONTH=11;BYDAY=1SU
DTSTART:20070101T000000
TZOFFSETFROM:-0700
TZOFFSETTO:-0800
TZNAME:Pacific Standard Time
END:STANDARD
END:VTIMEZONE
BEGIN:VEVENT
DTSTART;TZID=America/Los_Angeles:20260423T190000
DTEND;TZID=America/Los_Angeles:20260423T210000
X-MICROSOFT-CDO-ALLDAYEVENT:FALSE
SUMMARY:100-Point Vintage Wine Dinner
DESCRIPTION:This experience will include the 100-Point award-winning 2021 VIK Red Blend\, paired with All Jumbo Lump Crab Cake\, Wagyu New York Strip\, and more!\n\nReservations: fogo.com/vikwinedinner
X-ALT-DESC;FMTTYPE=text/html:This experience will include the 100-Point award-winning 2021 VIK Red Blend\, paired with All Jumbo Lump Crab Cake\, Wagyu New York Strip\, and more!\n\nReservations: fogo.com/vikwinedinner
LOCATION:1104 Galleria Blvd. Roseville CA 95678
UID:e.3063.1435164
SEQUENCE:3
DTSTAMP:20260425T165528Z
URL:https://business.rosevillechamber.com/chamber-event-calendar/Details/100-point-vintage-wine-dinner-1698801?sourceTypeId=Hub
END:VEVENT
END:VCALENDAR
