BEGIN:VCALENDAR
VERSION:2.0
PRODID:-//ChamberMaster//Event Calendar 2.0//EN
METHOD:PUBLISH
X-PUBLISHED-TTL:P1H
REFRESH-INTERVAL:P1H
CALSCALE:GREGORIAN
BEGIN:VTIMEZONE
TZID:America/Los_Angeles
BEGIN:DAYLIGHT
RRULE:FREQ=YEARLY;BYMONTH=3;BYDAY=2SU
DTSTART:20070101T000000
TZOFFSETFROM:-0800
TZOFFSETTO:-0700
TZNAME:Pacific Daylight Time
END:DAYLIGHT
BEGIN:STANDARD
RRULE:FREQ=YEARLY;BYMONTH=11;BYDAY=1SU
DTSTART:20070101T000000
TZOFFSETFROM:-0700
TZOFFSETTO:-0800
TZNAME:Pacific Standard Time
END:STANDARD
END:VTIMEZONE
BEGIN:VEVENT
DTSTART;TZID=America/Los_Angeles:20260526T090000
DTEND;TZID=America/Los_Angeles:20260526T103000
X-MICROSOFT-CDO-ALLDAYEVENT:FALSE
SUMMARY:Canva Basics for Your Business
DESCRIPTION:Join us for a hands-on session designed to help you confidently navigate Canva and elevate your business's visual presence. Hosted by the Roseville Area Chamber's Creative Collab\, this workshop will walk you through the fundamentals of creating polished\, on-brand graphics for social media\, marketing materials\, and more. No prior experience is necessary we'll start with the basics to build a strong foundation\, making this session approachable and valuable for beginners and those looking to sharpen their skills alike. You'll learn what you can effectively manage on your own using Canva's tools while also gaining insight into when partnering with creative professionals can take your brand to the next level. This session is all about empowering business owners with practical skills\, while recognizing the value of strong design strategy and expertise. Whether you're just getting started or looking to refine your approach\, you'll leave with tools\, tips\, and a clearer vision for your brand.
X-ALT-DESC;FMTTYPE=text/html:<!DOCTYPE html><html><head><title></title></head><body aria-disabled="false"><p>Join us for a hands-on session designed to help you confidently navigate Canva and elevate your business&rsquo\;s visual presence. Hosted by the Roseville Area Chamber&#39\;s Creative Collab\, this workshop will walk you through the fundamentals of creating polished\, on-brand graphics for social media\, marketing materials\, and more. No prior experience is necessary&mdash\;we&rsquo\;ll start with the basics to build a strong foundation\, making this session approachable and valuable for beginners and those looking to sharpen their skills alike. You&rsquo\;ll learn what you can effectively manage on your own using Canva&rsquo\;s tools&mdash\;while also gaining insight into when partnering with creative professionals can take your brand to the next level. This session is all about empowering business owners with practical skills\, while recognizing the value of strong design strategy and expertise. Whether you&#39\;re just getting started or looking to refine your approach\, you&rsquo\;ll leave with tools\, tips\, and a clearer vision for your brand.</p></body></html>
LOCATION:316 Vernon Street #110 Roseville 95678
UID:e.3063.1446636
SEQUENCE:3
DTSTAMP:20260420T045215Z
URL:https://business.rosevillechamber.com/chamber-event-calendar/Details/canva-basics-for-your-business-1713410?sourceTypeId=Hub
END:VEVENT
END:VCALENDAR
