BEGIN:VCALENDAR
VERSION:2.0
PRODID:-//ChamberMaster//Event Calendar 2.0//EN
METHOD:PUBLISH
X-PUBLISHED-TTL:P1H
REFRESH-INTERVAL:P1H
CALSCALE:GREGORIAN
BEGIN:VTIMEZONE
TZID:America/Los_Angeles
BEGIN:DAYLIGHT
RRULE:FREQ=YEARLY;BYMONTH=3;BYDAY=2SU
DTSTART:20070101T000000
TZOFFSETFROM:-0800
TZOFFSETTO:-0700
TZNAME:Pacific Daylight Time
END:DAYLIGHT
BEGIN:STANDARD
RRULE:FREQ=YEARLY;BYMONTH=11;BYDAY=1SU
DTSTART:20070101T000000
TZOFFSETFROM:-0700
TZOFFSETTO:-0800
TZNAME:Pacific Standard Time
END:STANDARD
END:VTIMEZONE
BEGIN:VEVENT
DTSTART;TZID=America/Los_Angeles:20260428T090000
DTEND;TZID=America/Los_Angeles:20260428T100000
X-MICROSOFT-CDO-ALLDAYEVENT:FALSE
SUMMARY:Coffee with Noreen
DESCRIPTION:Coffee with Noreen is centered on authentic relationship-building. It's not about pitching or performing it's about connecting with people who are also committed to showing up\, supporting local business\, and building something that lasts.As conversations unfold naturally\, topics like business growth\, community needs\, and real estate often come up because housing\, development\, and local investment are deeply connected to the health of any thriving business community. Whether you're in real estate or simply understand its impact on your clients and network\, those discussions feel relevant\, not forced.It's a space where relationships are built over time\, not transactions and where the strongest opportunities often come from simply getting to know the people in the room.If you value genuine connection over surface-level networking\, I'll see you there.
X-ALT-DESC;FMTTYPE=text/html:<!DOCTYPE html><html><head><title></title></head><body aria-disabled="false"><p data-end="626" data-start="352">Coffee with Noreen is centered on authentic relationship-building. It&rsquo\;s not about pitching or performing&mdash\;it&rsquo\;s about connecting with people who are also committed to showing up\, supporting local business\, and building something that lasts.</p><p data-end="996" data-start="628">As conversations unfold naturally\, topics like business growth\, community needs\, and real estate often come up&mdash\;because housing\, development\, and local investment are deeply connected to the health of any thriving business community. Whether you&rsquo\;re in real estate or simply understand its impact on your clients and network\, those discussions feel relevant\, not forced.</p><p data-end="1169" data-start="998">It&rsquo\;s a space where relationships are built over time\, not transactions&mdash\;and where the strongest opportunities often come from simply getting to know the people in the room.</p><p data-end="1296" data-start="1171">If you value genuine connection over surface-level networking\, I&#39\;ll see you there.&nbsp\;</p></body></html>
LOCATION:
UID:e.3063.1444748
SEQUENCE:3
DTSTAMP:20260420T050235Z
URL:https://business.rosevillechamber.com/chamber-event-calendar/Details/coffee-with-noreen-1711150?sourceTypeId=Hub
END:VEVENT
END:VCALENDAR
