BEGIN:VCALENDAR
VERSION:2.0
PRODID:-//ChamberMaster//Event Calendar 2.0//EN
METHOD:PUBLISH
X-PUBLISHED-TTL:P1H
REFRESH-INTERVAL:P1H
CALSCALE:GREGORIAN
BEGIN:VTIMEZONE
TZID:America/Los_Angeles
BEGIN:DAYLIGHT
RRULE:FREQ=YEARLY;BYMONTH=3;BYDAY=2SU
DTSTART:20070101T000000
TZOFFSETFROM:-0800
TZOFFSETTO:-0700
TZNAME:Pacific Daylight Time
END:DAYLIGHT
BEGIN:STANDARD
RRULE:FREQ=YEARLY;BYMONTH=11;BYDAY=1SU
DTSTART:20070101T000000
TZOFFSETFROM:-0700
TZOFFSETTO:-0800
TZNAME:Pacific Standard Time
END:STANDARD
END:VTIMEZONE
BEGIN:VEVENT
DTSTART;TZID=America/Los_Angeles:20260623T090000
DTEND;TZID=America/Los_Angeles:20260623T100000
X-MICROSOFT-CDO-ALLDAYEVENT:FALSE
SUMMARY:Creative Collab Roundtable
DESCRIPTION:Creative Collab is a new\, roundtable and focus group designed for creative members in photography\, videography\, branding\, marketing\, digital marketing\, and social media. This isn't your typical sit-around-and-talk meeting. It's a space to strategize\, collaborate\, and grow together\; sharing ideas\, tackling real challenges\, and uncovering partnership opportunities that move the needle. Built for creative minds\, Creative Collab goes beyond the table. Expect dynamic conversations\, brainstorming sessions\, peer feedback\, and intentional collaboration with professionals who get your world. Whether you are looking to refine your strategy\, expand your network\, or create meaningful collaborations\, this group is where creativity meets momentum. Come ready to think differently\, contribute boldly\, and grow together.
X-ALT-DESC;FMTTYPE=text/html:Creative Collab is a new\, roundtable and focus group designed for creative members in photography\, videography\, branding\, marketing\, digital marketing\, and social media. This isn't your typical sit-around-and-talk meeting. It's a space to strategize\, collaborate\, and grow together\; sharing ideas\, tackling real challenges\, and uncovering partnership opportunities that move the needle. Built for creative minds\, Creative Collab goes beyond the table. Expect dynamic conversations\, brainstorming sessions\, peer feedback\, and intentional collaboration with professionals who get your world. Whether you are looking to refine your strategy\, expand your network\, or create meaningful collaborations\, this group is where creativity meets momentum. Come ready to think differently\, contribute boldly\, and grow together.
LOCATION:316 Vernon Street #110 Roseville 95678
UID:e.3063.1446640
SEQUENCE:3
DTSTAMP:20260420T045301Z
URL:https://business.rosevillechamber.com/chamber-event-calendar/Details/creative-collab-roundtable-1713414?sourceTypeId=Hub
END:VEVENT
END:VCALENDAR
