BEGIN:VCALENDAR
VERSION:2.0
PRODID:-//ChamberMaster//Event Calendar 2.0//EN
METHOD:PUBLISH
X-PUBLISHED-TTL:P1H
REFRESH-INTERVAL:P1H
CALSCALE:GREGORIAN
BEGIN:VTIMEZONE
TZID:America/Los_Angeles
BEGIN:DAYLIGHT
RRULE:FREQ=YEARLY;BYMONTH=3;BYDAY=2SU
DTSTART:20070101T000000
TZOFFSETFROM:-0800
TZOFFSETTO:-0700
TZNAME:Pacific Daylight Time
END:DAYLIGHT
BEGIN:STANDARD
RRULE:FREQ=YEARLY;BYMONTH=11;BYDAY=1SU
DTSTART:20070101T000000
TZOFFSETFROM:-0700
TZOFFSETTO:-0800
TZNAME:Pacific Standard Time
END:STANDARD
END:VTIMEZONE
BEGIN:VEVENT
DTSTART;TZID=America/Los_Angeles:20260429T180000
DTEND;TZID=America/Los_Angeles:20260429T190000
X-MICROSOFT-CDO-ALLDAYEVENT:FALSE
SUMMARY:Home Buyer Event @PatelCo Credit Union
DESCRIPTION:Join us for a Home Buyer Event hosted at Patelco Credit Union in Folsom\, designed to help future homeowners feel confident and informed as they navigate the buying process.Whether you're purchasing your first home or looking to move up\, this event will cover key topics such as understanding mortgage options\, improving your credit profile\, budgeting for a down payment\, and learning what lenders look for in today's housing market. Attendees will have the opportunity to speak directly with mortgage professionals\, ask questions specific to their situation\, and get practical guidance tailored to local market conditions in Folsom and the greater Sacramento area.Light refreshments will be provided\, and guests will leave with helpful resources and next-step checklists to support their home-buying journey. Whether you're just starting to explore or actively planning to buy\, this session is designed to make the process clearer and more approachable.
X-ALT-DESC;FMTTYPE=text/html:<!DOCTYPE html><html><head><title></title></head><body aria-disabled="false"><p data-end="172" data-start="0">Join us for a Home Buyer Event hosted at Patelco Credit Union in Folsom\, designed to help future homeowners feel confident and informed as they navigate the buying process.</p><p data-end="697" data-start="174">Whether you&rsquo\;re purchasing your first home or looking to move up\, this event will cover key topics such as understanding mortgage options\, improving your credit profile\, budgeting for a down payment\, and learning what lenders look for in today&rsquo\;s housing market. Attendees will have the opportunity to speak directly with mortgage professionals\, ask questions specific to their situation\, and get practical guidance tailored to local market conditions in Folsom and the greater Sacramento area.</p><p data-end="697" data-start="174">Light refreshments will be provided\, and guests will leave with helpful resources and next-step checklists to support their home-buying journey. Whether you&#39\;re just starting to explore or actively planning to buy\, this session is designed to make the process clearer and more approachable.</p></body></html>
LOCATION:
UID:e.3063.1444743
SEQUENCE:3
DTSTAMP:20260420T050024Z
URL:https://business.rosevillechamber.com/chamber-event-calendar/Details/home-buyer-event-patelco-credit-union-1711145?sourceTypeId=Hub
END:VEVENT
END:VCALENDAR
