BEGIN:VCALENDAR
VERSION:2.0
PRODID:-//ChamberMaster//Event Calendar 2.0//EN
METHOD:PUBLISH
X-PUBLISHED-TTL:P1H
REFRESH-INTERVAL:P1H
CALSCALE:GREGORIAN
BEGIN:VTIMEZONE
TZID:America/Los_Angeles
BEGIN:DAYLIGHT
RRULE:FREQ=YEARLY;BYMONTH=3;BYDAY=2SU
DTSTART:20070101T000000
TZOFFSETFROM:-0800
TZOFFSETTO:-0700
TZNAME:Pacific Daylight Time
END:DAYLIGHT
BEGIN:STANDARD
RRULE:FREQ=YEARLY;BYMONTH=11;BYDAY=1SU
DTSTART:20070101T000000
TZOFFSETFROM:-0700
TZOFFSETTO:-0800
TZNAME:Pacific Standard Time
END:STANDARD
END:VTIMEZONE
BEGIN:VEVENT
DTSTART;TZID=America/Los_Angeles:20260507T110000
DTEND;TZID=America/Los_Angeles:20260507T120000
X-MICROSOFT-CDO-ALLDAYEVENT:FALSE
SUMMARY:Mental Health Awareness Month: How Gratitude Changes Our Money Attitude
DESCRIPTION:Money is said to be the currency of living\, but gratitude is the currency of life. Appreciating what you already have can certainly be less expensive! Join SAFE’s Financial Wellness Team to learn how to practice gratitude in your financial life. \n• Benefits of gratitude\n• Practicing gratefulness in your current financial situation\n• Reducing impulse purchasing
X-ALT-DESC;FMTTYPE=text/html:Money is said to be the currency of living\, but gratitude is the currency of life. Appreciating what you already have can certainly be less expensive! Join SAFE’s Financial Wellness Team to learn how to practice gratitude in your financial life. \n• Benefits of gratitude\n• Practicing gratefulness in your current financial situation\n• Reducing impulse purchasing
LOCATION:
UID:e.3063.1448425
SEQUENCE:3
DTSTAMP:20260425T170849Z
URL:https://business.rosevillechamber.com/chamber-event-calendar/Details/mental-health-awareness-month-how-gratitude-changes-our-money-attitude-1715424?sourceTypeId=Hub
END:VEVENT
END:VCALENDAR
