BEGIN:VCALENDAR
VERSION:2.0
PRODID:-//ChamberMaster//Event Calendar 2.0//EN
METHOD:PUBLISH
X-PUBLISHED-TTL:P1H
REFRESH-INTERVAL:P1H
CALSCALE:GREGORIAN
BEGIN:VTIMEZONE
TZID:America/Los_Angeles
BEGIN:DAYLIGHT
RRULE:FREQ=YEARLY;BYMONTH=3;BYDAY=2SU
DTSTART:20070101T000000
TZOFFSETFROM:-0800
TZOFFSETTO:-0700
TZNAME:Pacific Daylight Time
END:DAYLIGHT
BEGIN:STANDARD
RRULE:FREQ=YEARLY;BYMONTH=11;BYDAY=1SU
DTSTART:20070101T000000
TZOFFSETFROM:-0700
TZOFFSETTO:-0800
TZNAME:Pacific Standard Time
END:STANDARD
END:VTIMEZONE
BEGIN:VEVENT
DTSTART;TZID=America/Los_Angeles:20260502T080000
DTEND;TZID=America/Los_Angeles:20260502T110000
X-MICROSOFT-CDO-ALLDAYEVENT:FALSE
SUMMARY:Pancakes and Ponies
DESCRIPTION:Guests will enjoy a delicious pancake breakfast\, meet the Ranch's four-legged therapists\, take a guided tour of the facility\, and write words of encouragement to members of the community that need a little extra appreciation!Event Details:What: Pancakes and Ponies - The Pony Express   Hearts Landing RanchWhen: May 2nd\, 2026\, 8:00-11amWhere: Hearts Landing Ranch\, 8902 Quail Ln\, Granite Bay\, CA 95746Tickets: 17 and younger $10 | 18 and older $20 | Family ticket $50\nThese are meaningful moments of connection\, inspiration\, and community   and a chance to see firsthand how horses are helping heal lives right here in the Sacramento region. All proceeds go directly toward sponsoring mental health programs for those who could not otherwise afford the therapy they need and deserve.\nFor more information or to purchase tickets\, visit www.heartslandingranch.com click on the following link https://bit.ly/2026bigdayofgiving
X-ALT-DESC;FMTTYPE=text/html:<!DOCTYPE html><html><head><title></title></head><body aria-disabled="false"><p dir="ltr" style="line-height:1.38\;margin-top:12pt\;margin-bottom:12pt\;"><span style="font-size:12pt\;font-family:Arial\,sans-serif\;color:#000000\;background-color:transparent\;font-weight:400\;font-style:normal\;font-variant:normal\;text-decoration:none\;vertical-align:baseline\;white-space:pre\;white-space:pre-wrap\;">Guests will enjoy a&nbsp\;</span><span style="font-size:12pt\;font-family:Arial\,sans-serif\;color:#000000\;background-color:transparent\;font-weight:700\;font-style:normal\;font-variant:normal\;text-decoration:none\;vertical-align:baseline\;white-space:pre\;white-space:pre-wrap\;">delicious pancake breakfast</span><span style="font-size:12pt\;font-family:Arial\,sans-serif\;color:#000000\;background-color:transparent\;font-weight:400\;font-style:normal\;font-variant:normal\;text-decoration:none\;vertical-align:baseline\;white-space:pre\;white-space:pre-wrap\;">\,&nbsp\;</span><span style="font-size:12pt\;font-family:Arial\,sans-serif\;color:#000000\;background-color:transparent\;font-weight:700\;font-style:normal\;font-variant:normal\;text-decoration:none\;vertical-align:baseline\;white-space:pre\;white-space:pre-wrap\;">meet the Ranch&#39\;s four-legged therapists</span><span style="font-size:12pt\;font-family:Arial\,sans-serif\;color:#000000\;background-color:transparent\;font-weight:400\;font-style:normal\;font-variant:normal\;text-decoration:none\;vertical-align:baseline\;white-space:pre\;white-space:pre-wrap\;">\, take a&nbsp\;</span><span style="font-size:12pt\;font-family:Arial\,sans-serif\;color:#000000\;background-color:transparent\;font-weight:700\;font-style:normal\;font-variant:normal\;text-decoration:none\;vertical-align:baseline\;white-space:pre\;white-space:pre-wrap\;">guided tour</span><span style="font-size:12pt\;font-family:Arial\,sans-serif\;color:#000000\;background-color:transparent\;font-weight:400\;font-style:normal\;font-variant:normal\;text-decoration:none\;vertical-align:baseline\;white-space:pre\;white-space:pre-wrap\;">&nbsp\;of the facility\, and&nbsp\;</span><span style="font-size:12pt\;font-family:Arial\,sans-serif\;color:#000000\;background-color:transparent\;font-weight:700\;font-style:normal\;font-variant:normal\;text-decoration:none\;vertical-align:baseline\;white-space:pre\;white-space:pre-wrap\;">write words of encouragement</span><span style="font-size:12pt\;font-family:Arial\,sans-serif\;color:#000000\;background-color:transparent\;font-weight:400\;font-style:normal\;font-variant:normal\;text-decoration:none\;vertical-align:baseline\;white-space:pre\;white-space:pre-wrap\;">&nbsp\;to members of the community that need a little extra appreciation!</span></p><p dir="ltr" style="line-height:1.38\;margin-top:12pt\;margin-bottom:12pt\;"><span style="font-size:12pt\;font-family:Arial\,sans-serif\;color:#000000\;background-color:transparent\;font-weight:700\;font-style:normal\;font-variant:normal\;text-decoration:none\;vertical-align:baseline\;white-space:pre\;white-space:pre-wrap\;">Event Details:</span></p><p dir="ltr" style="line-height:1.38\;margin-top:12pt\;margin-bottom:0pt\;"><span style="font-size:12pt\;font-family:Arial\,sans-serif\;color:#000000\;background-color:transparent\;font-weight:700\;font-style:normal\;font-variant:normal\;text-decoration:none\;vertical-align:baseline\;white-space:pre\;white-space:pre-wrap\;">What:</span><span style="font-size:12pt\;font-family:Arial\,sans-serif\;color:#000000\;background-color:transparent\;font-weight:400\;font-style:normal\;font-variant:normal\;text-decoration:none\;vertical-align:baseline\;white-space:pre\;white-space:pre-wrap\;">&nbsp\;Pancakes and Ponies - The Pony Express &ndash\; Hearts Landing Ranch</span></p><p dir="ltr" style="line-height:1.38\;margin-top:0pt\;margin-bottom:0pt\;"><span style="font-size:12pt\;font-family:Arial\,sans-serif\;color:#000000\;background-color:transparent\;font-weight:700\;font-style:normal\;font-variant:normal\;text-decoration:none\;vertical-align:baseline\;white-space:pre\;white-space:pre-wrap\;">When:</span><span style="font-size:12pt\;font-family:Arial\,sans-serif\;color:#000000\;background-color:transparent\;font-weight:400\;font-style:normal\;font-variant:normal\;text-decoration:none\;vertical-align:baseline\;white-space:pre\;white-space:pre-wrap\;">&nbsp\;May 2nd\, 2026\, 8:00-11am</span></p><p dir="ltr" style="line-height:1.38\;margin-top:0pt\;margin-bottom:12pt\;"><span style="font-size:12pt\;font-family:Arial\,sans-serif\;color:#000000\;background-color:transparent\;font-weight:700\;font-style:normal\;font-variant:normal\;text-decoration:none\;vertical-align:baseline\;white-space:pre\;white-space:pre-wrap\;">Where:</span><span style="font-size:12pt\;font-family:Arial\,sans-serif\;color:#000000\;background-color:transparent\;font-weight:400\;font-style:normal\;font-variant:normal\;text-decoration:none\;vertical-align:baseline\;white-space:pre\;white-space:pre-wrap\;">&nbsp\;Hearts Landing Ranch\, 8902 Quail Ln\, Granite Bay\, CA 95746</span></p><p dir="ltr" style="line-height:1.38\;margin-top:0pt\;margin-bottom:12pt\;"><span style="font-size:12pt\;font-family:Arial\,sans-serif\;color:#000000\;background-color:transparent\;font-weight:700\;font-style:normal\;font-variant:normal\;text-decoration:none\;vertical-align:baseline\;white-space:pre\;white-space:pre-wrap\;">Tickets:</span><span style="font-size:12pt\;font-family:Arial\,sans-serif\;color:#000000\;background-color:transparent\;font-weight:400\;font-style:normal\;font-variant:normal\;text-decoration:none\;vertical-align:baseline\;white-space:pre\;white-space:pre-wrap\;">&nbsp\;17 and younger $10 | 18 and older $20 | Family ticket $50</span></p><p><br></p><p><span style="font-size:12pt\;font-family:Arial\,sans-serif\;color:#000000\;background-color:transparent\;font-weight:400\;font-style:normal\;font-variant:normal\;text-decoration:none\;vertical-align:baseline\;white-space:pre\;white-space:pre-wrap\;">These are meaningful moments of connection\, inspiration\, and community &mdash\; and a chance to see firsthand how horses are helping heal lives right here in the Sacramento region. All&nbsp\;</span><span style="font-size:12pt\;font-family:Arial\,sans-serif\;color:#000000\;background-color:transparent\;font-weight:700\;font-style:normal\;font-variant:normal\;text-decoration:none\;vertical-align:baseline\;white-space:pre\;white-space:pre-wrap\;">proceeds go directly toward sponsoring mental health programs</span><span style="font-size:12pt\;font-family:Arial\,sans-serif\;color:#000000\;background-color:transparent\;font-weight:400\;font-style:normal\;font-variant:normal\;text-decoration:none\;vertical-align:baseline\;white-space:pre\;white-space:pre-wrap\;">&nbsp\;for those who could not otherwise afford the therapy they need and deserve.</span></p><p><br></p><p><span style="font-size:12pt\;font-family:Arial\,sans-serif\;color:#000000\;background-color:transparent\;font-weight:400\;font-style:normal\;font-variant:normal\;text-decoration:none\;vertical-align:baseline\;white-space:pre\;white-space:pre-wrap\;"><span style="font-size:12pt\;font-family:Arial\,sans-serif\;color:#000000\;background-color:transparent\;font-weight:400\;font-style:normal\;font-variant:normal\;text-decoration:none\;vertical-align:baseline\;white-space:pre\;white-space:pre-wrap\;">For more information or to purchase tickets\, visit</span><a fr-original-style="text-decoration:none\;" href="http://www.heartslandingranch.com" style="text-decoration: none\; user-select: auto\;"><span style="font-size:12pt\;font-family:Arial\,sans-serif\;color:#000000\;background-color:transparent\;font-weight:400\;font-style:normal\;font-variant:normal\;text-decoration:none\;vertical-align:baseline\;white-space:pre\;white-space:pre-wrap\;">&nbsp\;</span><span style="font-size:12pt\;font-family:Arial\,sans-serif\;color:#1155cc\;background-color:transparent\;font-weight:400\;font-style:normal\;font-variant:normal\;text-decoration:underline\;-webkit-text-decoration-skip:none\;text-decoration-skip-ink:none\;vertical-align:baseline\;white-space:pre\;white-space:pre-wrap\;">www.heartslandingranch.com</span></a><span style="font-size:12pt\;font-family:Arial\,sans-serif\;color:#000000\;background-color:transparent\;font-weight:400\;font-style:normal\;font-variant:normal\;text-decoration:none\;vertical-align:baseline\;white-space:pre\;white-space:pre-wrap\;">&nbsp\;click on the following link&nbsp\;</span><a fr-original-style="text-decoration:none\;" href="https://bit.ly/2026bigdayofgiving" style="text-decoration: none\; user-select: auto\;"><span style="font-size:12pt\;font-family:Arial\,sans-serif\;color:#1155cc\;background-color:transparent\;font-weight:400\;font-style:normal\;font-variant:normal\;text-decoration:underline\;-webkit-text-decoration-skip:none\;text-decoration-skip-ink:none\;vertical-align:baseline\;white-space:pre\;white-space:pre-wrap\;">https://bit.ly/2026bigdayofgiving</span></a></span></p></body></html>
LOCATION:8902 Quail Lane Granite Bay CA 95746
UID:e.3063.1447462
SEQUENCE:3
DTSTAMP:20260425T170504Z
URL:https://business.rosevillechamber.com/chamber-event-calendar/Details/pancakes-and-ponies-1714404?sourceTypeId=Hub
END:VEVENT
END:VCALENDAR
