BEGIN:VCALENDAR
VERSION:2.0
PRODID:-//ChamberMaster//Event Calendar 2.0//EN
METHOD:PUBLISH
X-PUBLISHED-TTL:P1H
REFRESH-INTERVAL:P1H
CALSCALE:GREGORIAN
BEGIN:VTIMEZONE
TZID:America/Los_Angeles
BEGIN:DAYLIGHT
RRULE:FREQ=YEARLY;BYMONTH=3;BYDAY=2SU
DTSTART:20070101T000000
TZOFFSETFROM:-0800
TZOFFSETTO:-0700
TZNAME:Pacific Daylight Time
END:DAYLIGHT
BEGIN:STANDARD
RRULE:FREQ=YEARLY;BYMONTH=11;BYDAY=1SU
DTSTART:20070101T000000
TZOFFSETFROM:-0700
TZOFFSETTO:-0800
TZNAME:Pacific Standard Time
END:STANDARD
END:VTIMEZONE
BEGIN:VEVENT
DTSTART;TZID=America/Los_Angeles:20260514T110000
DTEND;TZID=America/Los_Angeles:20260514T120000
X-MICROSOFT-CDO-ALLDAYEVENT:FALSE
SUMMARY:SAFE Credit Union Presents: College Readiness Series - Options to pay your remaining balance for college
DESCRIPTION:Many students and families will consider financing a portion of their college education. This session will focus on encouraging responsible borrowing and what students and families can do to find the right solution for their borrowing needs.\n• Responsible borrowing\n• Financing options \n• Planning for the future
X-ALT-DESC;FMTTYPE=text/html:Many students and families will consider financing a portion of their college education. This session will focus on encouraging responsible borrowing and what students and families can do to find the right solution for their borrowing needs.\n• Responsible borrowing\n• Financing options \n• Planning for the future
LOCATION:https://safecu.zoom.us/webinar/register/4017761889710/WN_a8z4f4pFRa-9mtBoBLJbEA#/registration
UID:e.3063.1448433
SEQUENCE:3
DTSTAMP:20260425T171202Z
URL:https://business.rosevillechamber.com/chamber-event-calendar/Details/safe-credit-union-presents-college-readiness-series-options-to-pay-your-remaining-balance-for-college-1715432?sourceTypeId=Hub
END:VEVENT
END:VCALENDAR
