BEGIN:VCALENDAR
VERSION:2.0
PRODID:-//ChamberMaster//Event Calendar 2.0//EN
METHOD:PUBLISH
X-PUBLISHED-TTL:P1H
REFRESH-INTERVAL:P1H
CALSCALE:GREGORIAN
BEGIN:VTIMEZONE
TZID:America/Los_Angeles
BEGIN:DAYLIGHT
RRULE:FREQ=YEARLY;BYMONTH=3;BYDAY=2SU
DTSTART:20070101T000000
TZOFFSETFROM:-0800
TZOFFSETTO:-0700
TZNAME:Pacific Daylight Time
END:DAYLIGHT
BEGIN:STANDARD
RRULE:FREQ=YEARLY;BYMONTH=11;BYDAY=1SU
DTSTART:20070101T000000
TZOFFSETFROM:-0700
TZOFFSETTO:-0800
TZNAME:Pacific Standard Time
END:STANDARD
END:VTIMEZONE
BEGIN:VEVENT
DTSTART;TZID=America/Los_Angeles:20260521T110000
DTEND;TZID=America/Los_Angeles:20260521T130000
X-MICROSOFT-CDO-ALLDAYEVENT:FALSE
SUMMARY:SAFE Credit Union Presents: Swipe Smarter - Credit Card Tips
DESCRIPTION:Using your credit card for purchases can be a smart move when you pair your spending with a responsible plan. Taking advantage of credit card tracking tools\, reward benefits\, and cardholder protections can help you get ahead. Join SAFE's Financial Wellness Team to understand the benefits of using your credit card wisely.	\n\n• How to use credit cards to spend wisely\n• Tools to help you manage your credit card spending\n• Taking advantage of credit card rewards
X-ALT-DESC;FMTTYPE=text/html:Using your credit card for purchases can be a smart move when you pair your spending with a responsible plan. Taking advantage of credit card tracking tools\, reward benefits\, and cardholder protections can help you get ahead. Join SAFE's Financial Wellness Team to understand the benefits of using your credit card wisely.	\n\n• How to use credit cards to spend wisely\n• Tools to help you manage your credit card spending\n• Taking advantage of credit card rewards
LOCATION:
UID:e.3063.1448444
SEQUENCE:3
DTSTAMP:20260425T170849Z
URL:https://business.rosevillechamber.com/chamber-event-calendar/Details/safe-credit-union-presents-swipe-smarter-credit-card-tips-1715443?sourceTypeId=Hub
END:VEVENT
END:VCALENDAR
