BEGIN:VCALENDAR
VERSION:2.0
PRODID:-//ChamberMaster//Event Calendar 2.0//EN
METHOD:PUBLISH
X-PUBLISHED-TTL:P1H
REFRESH-INTERVAL:P1H
CALSCALE:GREGORIAN
BEGIN:VTIMEZONE
TZID:America/Los_Angeles
BEGIN:DAYLIGHT
RRULE:FREQ=YEARLY;BYMONTH=3;BYDAY=2SU
DTSTART:20070101T000000
TZOFFSETFROM:-0800
TZOFFSETTO:-0700
TZNAME:Pacific Daylight Time
END:DAYLIGHT
BEGIN:STANDARD
RRULE:FREQ=YEARLY;BYMONTH=11;BYDAY=1SU
DTSTART:20070101T000000
TZOFFSETFROM:-0700
TZOFFSETTO:-0800
TZNAME:Pacific Standard Time
END:STANDARD
END:VTIMEZONE
BEGIN:VEVENT
DTSTART;TZID=America/Los_Angeles:20260519T120000
DTEND;TZID=America/Los_Angeles:20260519T130000
X-MICROSOFT-CDO-ALLDAYEVENT:FALSE
SUMMARY:SAFE Credit Union Presents: Understanding Medicare
DESCRIPTION:As we approach retirement\, there are many crucial steps and topics to consider before moving onto the next phase of life. Medicare is one of the most important. \n\nIn this presentation led Chris Frederick of Good Shepherd Insurance\, we will discuss the ABCs of what it takes to enroll\, qualify for\, and identify different types of Medicare coverage.\n\nTopics Covered:\n• Eligibility and Enrollment\n• Coverage options\n• Medicare Supplement\n• Resources for those with limited income
X-ALT-DESC;FMTTYPE=text/html:As we approach retirement\, there are many crucial steps and topics to consider before moving onto the next phase of life. Medicare is one of the most important. \n\nIn this presentation led Chris Frederick of Good Shepherd Insurance\, we will discuss the ABCs of what it takes to enroll\, qualify for\, and identify different types of Medicare coverage.\n\nTopics Covered:\n• Eligibility and Enrollment\n• Coverage options\n• Medicare Supplement\n• Resources for those with limited income
LOCATION:
UID:e.3063.1448442
SEQUENCE:3
DTSTAMP:20260425T170638Z
URL:https://business.rosevillechamber.com/chamber-event-calendar/Details/safe-credit-union-presents-understanding-medicare-1715441?sourceTypeId=Hub
END:VEVENT
END:VCALENDAR
