BEGIN:VCALENDAR
VERSION:2.0
PRODID:-//ChamberMaster//Event Calendar 2.0//EN
METHOD:PUBLISH
X-PUBLISHED-TTL:P1H
REFRESH-INTERVAL:P1H
CALSCALE:GREGORIAN
BEGIN:VTIMEZONE
TZID:America/Los_Angeles
BEGIN:DAYLIGHT
RRULE:FREQ=YEARLY;BYMONTH=3;BYDAY=2SU
DTSTART:20070101T000000
TZOFFSETFROM:-0800
TZOFFSETTO:-0700
TZNAME:Pacific Daylight Time
END:DAYLIGHT
BEGIN:STANDARD
RRULE:FREQ=YEARLY;BYMONTH=11;BYDAY=1SU
DTSTART:20070101T000000
TZOFFSETFROM:-0700
TZOFFSETTO:-0800
TZNAME:Pacific Standard Time
END:STANDARD
END:VTIMEZONE
BEGIN:VEVENT
DTSTART;TZID=America/Los_Angeles:20260420T080000
DTEND;TZID=America/Los_Angeles:20260519T170000
X-MICROSOFT-CDO-ALLDAYEVENT:FALSE
SUMMARY:Spring into Vince
DESCRIPTION:Chamber of Commerce Members\, this one’s for you!\n\nThe new Spring Collection has just arrived at Vince\, and we’re celebrating with an exclusive\, limited-time offer designed to keep you cool and styled all season long.\n\nPrivate Promotion:\nSpend $500 → Receive $100 off\nSpend $600 → Receive $150 off\nSpend $700+ → Receive $250 off\n\nSimply mention you’re a Chamber of Commerce member when you come in and our team of stylists will help you discover elevated essentials and effortless spring styles that will easily transition into the summer.\n\nVisit us in-store to shop the collection.
X-ALT-DESC;FMTTYPE=text/html:Chamber of Commerce Members\, this one’s for you!\n\nThe new Spring Collection has just arrived at Vince\, and we’re celebrating with an exclusive\, limited-time offer designed to keep you cool and styled all season long.\n\nPrivate Promotion:\nSpend $500 → Receive $100 off\nSpend $600 → Receive $150 off\nSpend $700+ → Receive $250 off\n\nSimply mention you’re a Chamber of Commerce member when you come in and our team of stylists will help you discover elevated essentials and effortless spring styles that will easily transition into the summer.\n\nVisit us in-store to shop the collection.
LOCATION:1151 Galleria Blvd Space 154 Roseville CA 95678
UID:e.3063.1447556
SEQUENCE:3
DTSTAMP:20260425T165528Z
URL:https://business.rosevillechamber.com/chamber-event-calendar/Details/spring-into-vince-1714497?sourceTypeId=Hub
END:VEVENT
END:VCALENDAR
