BEGIN:VCALENDAR
VERSION:2.0
PRODID:-//ChamberMaster//Event Calendar 2.0//EN
METHOD:PUBLISH
X-PUBLISHED-TTL:P1H
REFRESH-INTERVAL:P1H
CALSCALE:GREGORIAN
BEGIN:VTIMEZONE
TZID:America/Los_Angeles
BEGIN:DAYLIGHT
RRULE:FREQ=YEARLY;BYMONTH=3;BYDAY=2SU
DTSTART:20070101T000000
TZOFFSETFROM:-0800
TZOFFSETTO:-0700
TZNAME:Pacific Daylight Time
END:DAYLIGHT
BEGIN:STANDARD
RRULE:FREQ=YEARLY;BYMONTH=11;BYDAY=1SU
DTSTART:20070101T000000
TZOFFSETFROM:-0700
TZOFFSETTO:-0800
TZNAME:Pacific Standard Time
END:STANDARD
END:VTIMEZONE
BEGIN:VEVENT
DTSTART;TZID=America/Los_Angeles:20260403T090000
DTEND;TZID=America/Los_Angeles:20260403T100000
X-MICROSOFT-CDO-ALLDAYEVENT:FALSE
SUMMARY:Stop Overpaying for Travel: Smart Tips to Travel for Less
DESCRIPTION:Travel more\, spend less. Discover how to save money and stop overpaying on your next trip. What if your family could travel more\, enjoy luxury experiences\, and still spend less? Join us to discover how everyday families are unlocking better deals\, saving on trips\, and creating unforgettable travel experiences without sacrificing comfort or quality.REGISTER HERE seats are limited.
X-ALT-DESC;FMTTYPE=text/html:<!DOCTYPE html><html><head><title></title></head><body aria-disabled="false"><p>Travel more\, spend less. Discover how to save money and stop overpaying on your next trip. What if your family could travel more\, enjoy luxury experiences\, and still spend less? Join us to discover how everyday families are unlocking better deals\, saving on trips\, and creating unforgettable travel experiences without sacrificing comfort or quality.</p><p><a fr-original-style="" href="https://www.eventbrite.com/e/stop-overpaying-for-travel-smart-tips-to-travel-for-less-tickets-1986036224811?aff=Luba" style="user-select: auto\;">REGISTER HERE</a> seats are limited.&nbsp\;</p></body></html>
LOCATION:650 Douglas Blvd Roseville CA 95678
UID:e.3063.1430291
SEQUENCE:3
DTSTAMP:20260425T170801Z
URL:https://business.rosevillechamber.com/chamber-event-calendar/Details/stop-overpaying-for-travel-smart-tips-to-travel-for-less-1692510?sourceTypeId=Hub
END:VEVENT
END:VCALENDAR
