BEGIN:VCALENDAR
VERSION:2.0
PRODID:-//ChamberMaster//Event Calendar 2.0//EN
METHOD:PUBLISH
X-PUBLISHED-TTL:P1H
REFRESH-INTERVAL:P1H
CALSCALE:GREGORIAN
BEGIN:VTIMEZONE
TZID:America/Los_Angeles
BEGIN:DAYLIGHT
RRULE:FREQ=YEARLY;BYMONTH=3;BYDAY=2SU
DTSTART:20070101T000000
TZOFFSETFROM:-0800
TZOFFSETTO:-0700
TZNAME:Pacific Daylight Time
END:DAYLIGHT
BEGIN:STANDARD
RRULE:FREQ=YEARLY;BYMONTH=11;BYDAY=1SU
DTSTART:20070101T000000
TZOFFSETFROM:-0700
TZOFFSETTO:-0800
TZNAME:Pacific Standard Time
END:STANDARD
END:VTIMEZONE
BEGIN:VEVENT
DTSTART;TZID=America/Los_Angeles:20260611T120000
DTEND;TZID=America/Los_Angeles:20260611T123000
X-MICROSOFT-CDO-ALLDAYEVENT:FALSE
SUMMARY:UMass Global: Human Resources: Education for Every Stage of Your HR Career
DESCRIPTION:Ready to take the next step in your human resources career? Explore 100% online HR degrees\, certificates\, and certification pathways from UMass Global\, designed for both aspiring professionals and experienced practitioners who want to advance without pausing their careers. Learn how flexible\, career-focused programs and scholarship opportunities can help you build in-demand skills and make your education more affordable.\nWhat you'll learn in the info session: -Accessible Online Learning: Learn how our 100% online format enhances accessibility\, with year-round sessions designed for working professionals.-Comprehensive Support: Gain insights into resources available to support your academic and professional journey.-Scholarship Opportunities: Discover funding options to help reduce tuition costs and make your education more affordable.-Credit for Experience: Learn how your prior academic or professional experience may count toward your degree.\nBring your questions and gain the clarity you need to confidently take the next step in your HR career.REGISTER HERE \n\nCan't Make It? Register anyway\, and we'll send you the recording to watch at your convenience.\nSpeaker:\nEmory Lunsford\, MSHR(360) 701-5632elunsfor@umassglobal.edu
X-ALT-DESC;FMTTYPE=text/html:<!DOCTYPE html><html><head><title></title></head><body aria-disabled="false"><p>Ready to take the next step in your human resources career? Explore 100% online HR degrees\, certificates\, and certification pathways from UMass Global\, designed for both aspiring professionals and experienced practitioners who want to advance without pausing their careers. Learn how flexible\, career-focused programs and scholarship opportunities can help you build in-demand skills and make your education more affordable.</p><p><br></p><p>What you&rsquo\;ll learn in the info session:&nbsp\;</p><p>-Accessible Online Learning: Learn how our 100% online format enhances accessibility\, with year-round sessions designed for working professionals.</p><p>-Comprehensive Support: Gain insights into resources available to support your academic and professional journey.</p><p>-Scholarship Opportunities: Discover funding options to help reduce tuition costs and make your education more affordable.</p><p>-Credit for Experience: Learn how your prior academic or professional experience may count toward your degree.</p><p><br></p><p>Bring your questions and gain the clarity you need to confidently take the next step in your HR career.</p><p><a fr-original-style="" href="https://register.gotowebinar.com/rt/6524194587728467036" style="user-select: auto\;">REGISTER HERE</a> <br><br></p><p>Can&rsquo\;t Make It? Register anyway\, and we&rsquo\;ll send you the recording to watch at your convenience.</p><p><br></p><p>Speaker:</p><p><br></p><p>Emory Lunsford\, MSHR</p><p>(360) 701-5632</p><p>elunsfor@umassglobal.edu</p></body></html>
LOCATION:
UID:e.3063.1418519
SEQUENCE:3
DTSTAMP:20260425T171012Z
URL:https://business.rosevillechamber.com/chamber-event-calendar/Details/umass-global-human-resources-education-for-every-stage-of-your-hr-career-1676695?sourceTypeId=Hub
END:VEVENT
END:VCALENDAR
