BEGIN:VCALENDAR
VERSION:2.0
PRODID:-//ChamberMaster//Event Calendar 2.0//EN
METHOD:PUBLISH
X-PUBLISHED-TTL:P1H
REFRESH-INTERVAL:P1H
CALSCALE:GREGORIAN
BEGIN:VTIMEZONE
TZID:America/Los_Angeles
BEGIN:DAYLIGHT
RRULE:FREQ=YEARLY;BYMONTH=3;BYDAY=2SU
DTSTART:20070101T000000
TZOFFSETFROM:-0800
TZOFFSETTO:-0700
TZNAME:Pacific Daylight Time
END:DAYLIGHT
BEGIN:STANDARD
RRULE:FREQ=YEARLY;BYMONTH=11;BYDAY=1SU
DTSTART:20070101T000000
TZOFFSETFROM:-0700
TZOFFSETTO:-0800
TZNAME:Pacific Standard Time
END:STANDARD
END:VTIMEZONE
BEGIN:VEVENT
DTSTART;TZID=America/Los_Angeles:20260514T120000
DTEND;TZID=America/Los_Angeles:20260514T123000
X-MICROSOFT-CDO-ALLDAYEVENT:FALSE
SUMMARY:UMass Global: Human Resources: Education for Every Stage of Your HR Career
DESCRIPTION:Ready to take the next step in your human resources career? Explore 100% online HR degrees\, certificates\, and certification pathways from UMass Global\, designed for both aspiring professionals and experienced practitioners who want to advance without pausing their careers. Learn how flexible\, career-focused programs and scholarship opportunities can help you build in-demand skills and make your education more affordable. \n\nWhat you'll learn in the info session:  \n-Accessible Online Learning: Learn how our 100% online format enhances accessibility\, with year-round sessions designed for working professionals. \n-Comprehensive Support: Gain insights into resources available to support your academic and professional journey. \n-Scholarship Opportunities: Discover funding options to help reduce tuition costs and make your education more affordable. \n-Credit for Experience: Learn how your prior academic or professional experience may count toward your degree. Bring your questions and gain the clarity you need to confidently take the next step in your HR career. \n\nCan't Make It? Register anyway\, and we'll send you the recording to watch at your convenience. \nREGISTER HERE \n\nSpeaker: \nEmory Lunsford\, MSHR\n(360) 701-5632\nelunsfor@umassglobal.edu
X-ALT-DESC;FMTTYPE=text/html:<!DOCTYPE html><html><head><title></title></head><body aria-disabled="false"><p><span style='color: rgb(0\, 0\, 0)\; font-family: "Segoe UI"\, Frutiger\, "Frutiger Linotype"\, "Dejavu Sans"\, "Helvetica Neue"\, Arial\, sans-serif\, VideoJS\; font-size: 16px\; font-style: normal\; font-variant-ligatures: normal\; font-variant-caps: normal\; font-weight: 400\; letter-spacing: normal\; orphans: 2\; text-align: start\; text-indent: 0px\; text-transform: none\; widows: 2\; word-spacing: 0px\; -webkit-text-stroke-width: 0px\; white-space: pre-wrap\; background-color: rgb(255\, 255\, 255)\; text-decoration-thickness: initial\; text-decoration-style: initial\; text-decoration-color: initial\; display: inline !important\; float: none\;'>Ready to take the next step in your human resources career? Explore 100% online HR degrees\, certificates\, and certification pathways from UMass Global\, designed for both aspiring professionals and experienced practitioners who want to advance without pausing their careers. Learn how flexible\, career-focused programs and scholarship opportunities can help you build in-demand skills and make your education more affordable.&nbsp\;</span><br><br><span style='color: rgb(0\, 0\, 0)\; font-family: "Segoe UI"\, Frutiger\, "Frutiger Linotype"\, "Dejavu Sans"\, "Helvetica Neue"\, Arial\, sans-serif\, VideoJS\; font-size: 16px\; font-style: normal\; font-variant-ligatures: normal\; font-variant-caps: normal\; font-weight: 400\; letter-spacing: normal\; orphans: 2\; text-align: start\; text-indent: 0px\; text-transform: none\; widows: 2\; word-spacing: 0px\; -webkit-text-stroke-width: 0px\; white-space: pre-wrap\; background-color: rgb(255\, 255\, 255)\; text-decoration-thickness: initial\; text-decoration-style: initial\; text-decoration-color: initial\; display: inline !important\; float: none\;'>What you&rsquo\;ll learn in the info session: &nbsp\;</span><br><span style='color: rgb(0\, 0\, 0)\; font-family: "Segoe UI"\, Frutiger\, "Frutiger Linotype"\, "Dejavu Sans"\, "Helvetica Neue"\, Arial\, sans-serif\, VideoJS\; font-size: 16px\; font-style: normal\; font-variant-ligatures: normal\; font-variant-caps: normal\; font-weight: 400\; letter-spacing: normal\; orphans: 2\; text-align: start\; text-indent: 0px\; text-transform: none\; widows: 2\; word-spacing: 0px\; -webkit-text-stroke-width: 0px\; white-space: pre-wrap\; background-color: rgb(255\, 255\, 255)\; text-decoration-thickness: initial\; text-decoration-style: initial\; text-decoration-color: initial\; display: inline !important\; float: none\;'>-Accessible Online Learning: Learn how our 100% online format enhances accessibility\, with year-round sessions designed for working professionals.&nbsp\;</span><br><span style='color: rgb(0\, 0\, 0)\; font-family: "Segoe UI"\, Frutiger\, "Frutiger Linotype"\, "Dejavu Sans"\, "Helvetica Neue"\, Arial\, sans-serif\, VideoJS\; font-size: 16px\; font-style: normal\; font-variant-ligatures: normal\; font-variant-caps: normal\; font-weight: 400\; letter-spacing: normal\; orphans: 2\; text-align: start\; text-indent: 0px\; text-transform: none\; widows: 2\; word-spacing: 0px\; -webkit-text-stroke-width: 0px\; white-space: pre-wrap\; background-color: rgb(255\, 255\, 255)\; text-decoration-thickness: initial\; text-decoration-style: initial\; text-decoration-color: initial\; display: inline !important\; float: none\;'>-Comprehensive Support: Gain insights into resources available to support your academic and professional journey.&nbsp\;</span><br><span style='color: rgb(0\, 0\, 0)\; font-family: "Segoe UI"\, Frutiger\, "Frutiger Linotype"\, "Dejavu Sans"\, "Helvetica Neue"\, Arial\, sans-serif\, VideoJS\; font-size: 16px\; font-style: normal\; font-variant-ligatures: normal\; font-variant-caps: normal\; font-weight: 400\; letter-spacing: normal\; orphans: 2\; text-align: start\; text-indent: 0px\; text-transform: none\; widows: 2\; word-spacing: 0px\; -webkit-text-stroke-width: 0px\; white-space: pre-wrap\; background-color: rgb(255\, 255\, 255)\; text-decoration-thickness: initial\; text-decoration-style: initial\; text-decoration-color: initial\; display: inline !important\; float: none\;'>-Scholarship Opportunities: Discover funding options to help reduce tuition costs and make your education more affordable.&nbsp\;</span><br><span style='color: rgb(0\, 0\, 0)\; font-family: "Segoe UI"\, Frutiger\, "Frutiger Linotype"\, "Dejavu Sans"\, "Helvetica Neue"\, Arial\, sans-serif\, VideoJS\; font-size: 16px\; font-style: normal\; font-variant-ligatures: normal\; font-variant-caps: normal\; font-weight: 400\; letter-spacing: normal\; orphans: 2\; text-align: start\; text-indent: 0px\; text-transform: none\; widows: 2\; word-spacing: 0px\; -webkit-text-stroke-width: 0px\; white-space: pre-wrap\; background-color: rgb(255\, 255\, 255)\; text-decoration-thickness: initial\; text-decoration-style: initial\; text-decoration-color: initial\; display: inline !important\; float: none\;'>-Credit for Experience: Learn how your prior academic or professional experience may count toward your degree. Bring your questions and gain the clarity you need to confidently take the next step in your HR career.&nbsp\;</span><br><br><span style='color: rgb(0\, 0\, 0)\; font-family: "Segoe UI"\, Frutiger\, "Frutiger Linotype"\, "Dejavu Sans"\, "Helvetica Neue"\, Arial\, sans-serif\, VideoJS\; font-size: 16px\; font-style: normal\; font-variant-ligatures: normal\; font-variant-caps: normal\; font-weight: 400\; letter-spacing: normal\; orphans: 2\; text-align: start\; text-indent: 0px\; text-transform: none\; widows: 2\; word-spacing: 0px\; -webkit-text-stroke-width: 0px\; white-space: pre-wrap\; background-color: rgb(255\, 255\, 255)\; text-decoration-thickness: initial\; text-decoration-style: initial\; text-decoration-color: initial\; display: inline !important\; float: none\;'>Can&rsquo\;t Make It? Register anyway\, and we&rsquo\;ll send you the recording to watch at your convenience.&nbsp\;</span><br><span style='color: rgb(0\, 0\, 0)\; font-family: "Segoe UI"\, Frutiger\, "Frutiger Linotype"\, "Dejavu Sans"\, "Helvetica Neue"\, Arial\, sans-serif\, VideoJS\; font-size: 16px\; font-style: normal\; font-variant-ligatures: normal\; font-variant-caps: normal\; font-weight: 400\; letter-spacing: normal\; orphans: 2\; text-align: start\; text-indent: 0px\; text-transform: none\; widows: 2\; word-spacing: 0px\; -webkit-text-stroke-width: 0px\; white-space: pre-wrap\; background-color: rgb(255\, 255\, 255)\; text-decoration-thickness: initial\; text-decoration-style: initial\; text-decoration-color: initial\; display: inline !important\; float: none\;'><a fr-original-style="" href="https://register.gotowebinar.com/rt/6524194587728467036" style="user-select: auto\; color: inherit\;"><strong fr-original-style="" style="font-weight: 700\;">REGISTER HERE</strong></a><strong fr-original-style="" style="font-weight: 700\;">&nbsp\;</strong></span><br><br><span style='color: rgb(0\, 0\, 0)\; font-family: "Segoe UI"\, Frutiger\, "Frutiger Linotype"\, "Dejavu Sans"\, "Helvetica Neue"\, Arial\, sans-serif\, VideoJS\; font-size: 16px\; font-style: normal\; font-variant-ligatures: normal\; font-variant-caps: normal\; font-weight: 400\; letter-spacing: normal\; orphans: 2\; text-align: start\; text-indent: 0px\; text-transform: none\; widows: 2\; word-spacing: 0px\; -webkit-text-stroke-width: 0px\; white-space: pre-wrap\; background-color: rgb(255\, 255\, 255)\; text-decoration-thickness: initial\; text-decoration-style: initial\; text-decoration-color: initial\; display: inline !important\; float: none\;'>Speaker:&nbsp\;</span><br><span style='color: rgb(0\, 0\, 0)\; font-family: "Segoe UI"\, Frutiger\, "Frutiger Linotype"\, "Dejavu Sans"\, "Helvetica Neue"\, Arial\, sans-serif\, VideoJS\; font-size: 16px\; font-style: normal\; font-variant-ligatures: normal\; font-variant-caps: normal\; font-weight: 400\; letter-spacing: normal\; orphans: 2\; text-align: start\; text-indent: 0px\; text-transform: none\; widows: 2\; word-spacing: 0px\; -webkit-text-stroke-width: 0px\; white-space: pre-wrap\; background-color: rgb(255\, 255\, 255)\; text-decoration-thickness: initial\; text-decoration-style: initial\; text-decoration-color: initial\; display: inline !important\; float: none\;'>Emory Lunsford\, MSHR</span><br><span style='color: rgb(0\, 0\, 0)\; font-family: "Segoe UI"\, Frutiger\, "Frutiger Linotype"\, "Dejavu Sans"\, "Helvetica Neue"\, Arial\, sans-serif\, VideoJS\; font-size: 16px\; font-style: normal\; font-variant-ligatures: normal\; font-variant-caps: normal\; font-weight: 400\; letter-spacing: normal\; orphans: 2\; text-align: start\; text-indent: 0px\; text-transform: none\; widows: 2\; word-spacing: 0px\; -webkit-text-stroke-width: 0px\; white-space: pre-wrap\; background-color: rgb(255\, 255\, 255)\; text-decoration-thickness: initial\; text-decoration-style: initial\; text-decoration-color: initial\; display: inline !important\; float: none\;'>(360) 701-5632</span><br><span style='color: rgb(0\, 0\, 0)\; font-family: "Segoe UI"\, Frutiger\, "Frutiger Linotype"\, "Dejavu Sans"\, "Helvetica Neue"\, Arial\, sans-serif\, VideoJS\; font-size: 16px\; font-style: normal\; font-variant-ligatures: normal\; font-variant-caps: normal\; font-weight: 400\; letter-spacing: normal\; orphans: 2\; text-align: start\; text-indent: 0px\; text-transform: none\; widows: 2\; word-spacing: 0px\; -webkit-text-stroke-width: 0px\; white-space: pre-wrap\; background-color: rgb(255\, 255\, 255)\; text-decoration-thickness: initial\; text-decoration-style: initial\; text-decoration-color: initial\; display: inline !important\; float: none\;'>elunsfor@umassglobal.edu</span></p></body></html>
LOCATION:
UID:e.3063.1426714
SEQUENCE:3
DTSTAMP:20260425T171028Z
URL:https://business.rosevillechamber.com/chamber-event-calendar/Details/umass-global-human-resources-education-for-every-stage-of-your-hr-career-1687374?sourceTypeId=Hub
END:VEVENT
END:VCALENDAR
