BEGIN:VCALENDAR
VERSION:2.0
PRODID:-//ChamberMaster//Event Calendar 2.0//EN
METHOD:PUBLISH
X-PUBLISHED-TTL:P1H
REFRESH-INTERVAL:P1H
CALSCALE:GREGORIAN
BEGIN:VTIMEZONE
TZID:America/Los_Angeles
BEGIN:DAYLIGHT
RRULE:FREQ=YEARLY;BYMONTH=3;BYDAY=2SU
DTSTART:20070101T000000
TZOFFSETFROM:-0800
TZOFFSETTO:-0700
TZNAME:Pacific Daylight Time
END:DAYLIGHT
BEGIN:STANDARD
RRULE:FREQ=YEARLY;BYMONTH=11;BYDAY=1SU
DTSTART:20070101T000000
TZOFFSETFROM:-0700
TZOFFSETTO:-0800
TZNAME:Pacific Standard Time
END:STANDARD
END:VTIMEZONE
BEGIN:VEVENT
DTSTART;TZID=America/Los_Angeles:20260506T130000
DTEND;TZID=America/Los_Angeles:20260506T133000
X-MICROSOFT-CDO-ALLDAYEVENT:FALSE
SUMMARY:UMass Global: Management and Leadership: Education for Every Stage of Your Professional Journey
DESCRIPTION:Ready to take the next step in your leadership journey? Join us to explore 100% online\, flexible management and leadership programs designed for working adults\, and see how UMass Global can help you strengthen decision-making\, inspire teams\, and achieve your professional goals through accessible\, industry-aligned education. Learn about degree options\, short programs\, and available scholarships that can help reduce tuition while you build expertise in talent management\, organizational behavior\, and strategic leadership without putting your career on hold.\nWhat you'll learn in the info session: \n-Accessible Online Learning: Learn how our 100% online format enhances accessibility\, with year-round sessions designed for working professionals.-Comprehensive Support: Gain insights into resources available to support your academic and professional journey.-Scholarship Opportunities: Discover funding options to help reduce tuition costs and make your education more affordable.-Credit for Experience: Learn how your prior academic or professional experience may count toward your degree.\nBring your questions and gain the clarity you need to confidently take the next step in your HR career.REGISTER HERE Can't Make It? Register anyway\, and we'll send you the recording to watch at your convenience.\nSpeaker:\nEmory Lunsford\, MSHR(360) 701-5632elunsfor@umassglobal.edu
X-ALT-DESC;FMTTYPE=text/html:<!DOCTYPE html><html><head><title></title></head><body aria-disabled="false"><p>Ready to take the next step in your leadership journey? Join us to explore 100% online\, flexible management and leadership programs designed for working adults\, and see how UMass Global can help you strengthen decision-making\, inspire teams\, and achieve your professional goals through accessible\, industry-aligned education. Learn about degree options\, short programs\, and available scholarships that can help reduce tuition while you build expertise in talent management\, organizational behavior\, and strategic leadership&mdash\;without putting your career on hold.</p><p><br></p><p>What you&rsquo\;ll learn in the info session:&nbsp\;</p><p><br></p><p>-Accessible Online Learning: Learn how our 100% online format enhances accessibility\, with year-round sessions designed for working professionals.</p><p>-Comprehensive Support: Gain insights into resources available to support your academic and professional journey.</p><p>-Scholarship Opportunities: Discover funding options to help reduce tuition costs and make your education more affordable.</p><p>-Credit for Experience: Learn how your prior academic or professional experience may count toward your degree.</p><p><br></p><p>Bring your questions and gain the clarity you need to confidently take the next step in your HR career.</p><p><a fr-original-style="" href="https://register.gotowebinar.com/rt/3320602533459059547" style="user-select: auto\;">REGISTER HERE</a> </p><p>Can&rsquo\;t Make It? Register anyway\, and we&rsquo\;ll send you the recording to watch at your convenience.</p><p><br></p><p>Speaker:</p><p><br></p><p>Emory Lunsford\, MSHR</p><p>(360) 701-5632</p><p>elunsfor@umassglobal.edu</p></body></html>
LOCATION:
UID:e.3063.1418547
SEQUENCE:3
DTSTAMP:20260425T171126Z
URL:https://business.rosevillechamber.com/chamber-event-calendar/Details/umass-global-management-and-leadership-education-for-every-stage-of-your-professional-journey-1676723?sourceTypeId=Hub
END:VEVENT
END:VCALENDAR
